BEGIN:VCALENDAR
VERSION:2.0
PRODID:-//Duo Cavatine - ECPv6.15.20//NONSGML v1.0//EN
CALSCALE:GREGORIAN
METHOD:PUBLISH
X-WR-CALNAME:Duo Cavatine
X-ORIGINAL-URL:https://duocavatine.com/en
X-WR-CALDESC:Events for Duo Cavatine
REFRESH-INTERVAL;VALUE=DURATION:PT1H
X-Robots-Tag:noindex
X-PUBLISHED-TTL:PT1H
BEGIN:VTIMEZONE
TZID:America/Halifax
BEGIN:DAYLIGHT
TZOFFSETFROM:-0400
TZOFFSETTO:-0300
TZNAME:ADT
DTSTART:20190310T060000
END:DAYLIGHT
BEGIN:STANDARD
TZOFFSETFROM:-0300
TZOFFSETTO:-0400
TZNAME:AST
DTSTART:20191103T050000
END:STANDARD
BEGIN:DAYLIGHT
TZOFFSETFROM:-0400
TZOFFSETTO:-0300
TZNAME:ADT
DTSTART:20200308T060000
END:DAYLIGHT
BEGIN:STANDARD
TZOFFSETFROM:-0300
TZOFFSETTO:-0400
TZNAME:AST
DTSTART:20201101T050000
END:STANDARD
BEGIN:DAYLIGHT
TZOFFSETFROM:-0400
TZOFFSETTO:-0300
TZNAME:ADT
DTSTART:20210314T060000
END:DAYLIGHT
BEGIN:STANDARD
TZOFFSETFROM:-0300
TZOFFSETTO:-0400
TZNAME:AST
DTSTART:20211107T050000
END:STANDARD
BEGIN:DAYLIGHT
TZOFFSETFROM:-0400
TZOFFSETTO:-0300
TZNAME:ADT
DTSTART:20220313T060000
END:DAYLIGHT
BEGIN:STANDARD
TZOFFSETFROM:-0300
TZOFFSETTO:-0400
TZNAME:AST
DTSTART:20221106T050000
END:STANDARD
END:VTIMEZONE
BEGIN:VTIMEZONE
TZID:UTC
BEGIN:STANDARD
TZOFFSETFROM:+0000
TZOFFSETTO:+0000
TZNAME:UTC
DTSTART:20200101T000000
END:STANDARD
END:VTIMEZONE
BEGIN:VTIMEZONE
TZID:America/New_York
BEGIN:DAYLIGHT
TZOFFSETFROM:-0500
TZOFFSETTO:-0400
TZNAME:EDT
DTSTART:20190310T070000
END:DAYLIGHT
BEGIN:STANDARD
TZOFFSETFROM:-0400
TZOFFSETTO:-0500
TZNAME:EST
DTSTART:20191103T060000
END:STANDARD
BEGIN:DAYLIGHT
TZOFFSETFROM:-0500
TZOFFSETTO:-0400
TZNAME:EDT
DTSTART:20200308T070000
END:DAYLIGHT
BEGIN:STANDARD
TZOFFSETFROM:-0400
TZOFFSETTO:-0500
TZNAME:EST
DTSTART:20201101T060000
END:STANDARD
BEGIN:DAYLIGHT
TZOFFSETFROM:-0500
TZOFFSETTO:-0400
TZNAME:EDT
DTSTART:20210314T070000
END:DAYLIGHT
BEGIN:STANDARD
TZOFFSETFROM:-0400
TZOFFSETTO:-0500
TZNAME:EST
DTSTART:20211107T060000
END:STANDARD
END:VTIMEZONE
BEGIN:VEVENT
DTSTART;TZID=America/Halifax:20211120T200000
DTEND;TZID=America/Halifax:20211120T213000
DTSTAMP:20260423T182237
CREATED:20211013T041053Z
LAST-MODIFIED:20211013T041234Z
UID:289-1637438400-1637443800@duocavatine.com
SUMMARY:Parfums de Paris
DESCRIPTION:About this Concert\n\n\n\n\nNoémie Raymond-Friset\, cello; Michel-Alexandre Broekaert\, piano \nInternational competition prizewinners\, cellist Noémie Raymond-Friset and pianist Michel-Alexandre Broekaert display a dynamic and sensitive collaboration\, which is the secret to their captivating stage presence as Duo Cavatine. Their virtuosity\, command of their instruments\, and insightful musicianship make them one of Québec’s most prominent and exciting emerging duos. For this concert\, the artists perform an ode à Paris\, celebrating the undisputed capital of chamber music for centuries. They’ve chosen a program that intoxicates with the beauty\, sensitivity\, and emotion of the French capital. It features Paul Bazelaire’s 1924 arrangement of composer François Couperin’s Baroque dances 5 pièces en concert\, Nadia Boulanger’s delicate 3 pièces pour violoncelle et piano\, Malcolm Forsyth’s dazzling and colourful Eclectic Suite\, and Cesar Franck’s dark and rich Sonata for violin and piano in A minor with an arrangement for cello by Jules Delsart. Presented in partnership with Debut Atlantic. \n\n\nPLEASE NOTE: This is a physically distanced concert and masks will be required to be worn at all times. Proof of double vaccination against the COVID-19 virus will be required by all attendees prior to entrance. Policy updates may be required and issued as government regulations and organization-specific measures evolve. \n9:00 pm ADT
URL:https://duocavatine.com/en/calendar/parfums-de-paris-5/
LOCATION:LILIAN PIERCEY CONCERT HALL\, 6199 CHEBUCTO ROAD\, Halifax\, Nova Scotia\, B3L 1K7\, Canada
ATTACH;FMTTYPE=image/jpeg:https://duocavatine.com/wp-content/uploads/2020/06/54257390_1469778773153498_624189207740416000_o.jpg
END:VEVENT
BEGIN:VEVENT
DTSTART;TZID=America/Halifax:20211120T180000
DTEND;TZID=America/Halifax:20211120T193000
DTSTAMP:20260423T182237
CREATED:20211013T040817Z
LAST-MODIFIED:20211013T040854Z
UID:286-1637431200-1637436600@duocavatine.com
SUMMARY:Parfums de Paris
DESCRIPTION:About this Concert\n\n\n\n\nNoémie Raymond-Friset\, cello; Michel-Alexandre Broekaert\, piano \nInternational competition prizewinners\, cellist Noémie Raymond-Friset and pianist Michel-Alexandre Broekaert display a dynamic and sensitive collaboration\, which is the secret to their captivating stage presence as Duo Cavatine. Their virtuosity\, command of their instruments\, and insightful musicianship make them one of Québec’s most prominent and exciting emerging duos. For this concert\, the artists perform an ode à Paris\, celebrating the undisputed capital of chamber music for centuries. They’ve chosen a program that intoxicates with the beauty\, sensitivity\, and emotion of the French capital. It features Paul Bazelaire’s 1924 arrangement of composer François Couperin’s Baroque dances 5 pièces en concert\, Nadia Boulanger’s delicate 3 pièces pour violoncelle et piano\, Malcolm Forsyth’s dazzling and colourful Eclectic Suite\, and Cesar Franck’s dark and rich Sonata for violin and piano in A minor with an arrangement for cello by Jules Delsart. Presented in partnership with Debut Atlantic. \n\n\nPLEASE NOTE: This is a physically distanced concert and masks will be required to be worn at all times. Proof of double vaccination against the COVID-19 virus will be required by all attendees prior to entrance. Policy updates may be required and issued as government regulations and organization-specific measures evolve. \n7:00 pm ADT
URL:https://duocavatine.com/en/calendar/parfums-de-paris-4/
LOCATION:LILIAN PIERCEY CONCERT HALL\, 6199 CHEBUCTO ROAD\, Halifax\, Nova Scotia\, B3L 1K7\, Canada
ATTACH;FMTTYPE=image/jpeg:https://duocavatine.com/wp-content/uploads/2020/06/54257390_1469778773153498_624189207740416000_o.jpg
END:VEVENT
BEGIN:VEVENT
DTSTART;TZID=America/Halifax:20211114T130000
DTEND;TZID=America/Halifax:20211114T150000
DTSTAMP:20260423T182237
CREATED:20211013T040006Z
LAST-MODIFIED:20211013T040006Z
UID:283-1636894800-1636902000@duocavatine.com
SUMMARY:Parfums de Paris
DESCRIPTION:United by a deep passion for music\, Duo Cavatine is\, above all\, a long story of friendship.\nFounded by cellist Noémie Raymond-Friset and pianist Michel-Alexandre Broekaert\, the ensemble name is inspired by the famous Poulenc sonata – the very first piece they performed together while in school. Praised for their dynamic and refined musical personalities\, the duo are avid collaborators and perform with a poignant sensitivity – the secret to their compelling stage presence. From Couperin to Schnittke\, their artistic versatility is evident in their wide range of musical styles.\n——————\nUnis par une profonde passion pour la musique\, le Duo Cavatine est avant tout une longue histoire d’amitié.\nFondé par la violoncelliste Noémie Raymond-Friset et le pianiste Michel-Alexandre Broekaert\, le nom de l’ensemble est inspiré de la célèbre sonate de Poulenc\, la toute première pièce qu’ils ont jouée ensemble à l’école. Loués pour leurs personnalités musicales dynamiques et raffinées\, les deux musiciens sont de fervents collaborateurs et se produisent avec une sensibilité poignante – le secret de leur irrésistible présence sur scène. De Couperin à Schnittke\, leur polyvalence artistique est évidente dans leur large éventail de styles musicaux.\n\n2:00 pm AT
URL:https://duocavatine.com/en/calendar/parfums-de-paris-3/
LOCATION:Théâtre Capitol Theatre\, 811 rue Main St.\, Moncton\, New Brunswick\, E1C 1G1\, Canada
ATTACH;FMTTYPE=image/jpeg:https://duocavatine.com/wp-content/uploads/2020/06/54257390_1469778773153498_624189207740416000_o.jpg
END:VEVENT
BEGIN:VEVENT
DTSTART;TZID=America/Halifax:20211113T183000
DTEND;TZID=America/Halifax:20211113T203000
DTSTAMP:20260423T182237
CREATED:20211013T035456Z
LAST-MODIFIED:20211013T035456Z
UID:279-1636828200-1636835400@duocavatine.com
SUMMARY:Parfums de Paris
DESCRIPTION:Noémie Raymond-Friset\, cello and Michel-Alexandre Broekaert\, piano\n\nhttps://www.debutatlantic.ca/artist/duo-cavatine\n\n\n7:30pm ADT
URL:https://duocavatine.com/en/calendar/parfums-de-paris-2/
LOCATION:Immaculata Hall\, 2360 Notre Dame Ave\, Antigonish\, Nova Scotia\, B2G 2W5\, Canada
ATTACH;FMTTYPE=image/jpeg:https://duocavatine.com/wp-content/uploads/2020/06/54257390_1469778773153498_624189207740416000_o.jpg
END:VEVENT
BEGIN:VEVENT
DTSTART;TZID=UTC:20211112T080000
DTEND;TZID=UTC:20211128T170000
DTSTAMP:20260423T182237
CREATED:20210516T180048Z
LAST-MODIFIED:20210516T180048Z
UID:230-1636704000-1638118800@duocavatine.com
SUMMARY:Tour with Debut Atlantic
DESCRIPTION:More info coming soon!
URL:https://duocavatine.com/en/calendar/tour-with-debut-atlantic/
LOCATION:Nova Scotia
END:VEVENT
BEGIN:VEVENT
DTSTART;TZID=UTC:20210926T140000
DTEND;TZID=UTC:20210926T150000
DTSTAMP:20260423T182237
CREATED:20210516T175752Z
LAST-MODIFIED:20210516T180244Z
UID:227-1632664800-1632668400@duocavatine.com
SUMMARY:Couleurs d’automne
DESCRIPTION:Concert champêtre gratuit présenté par Les Promotions du Grand Châteauguay en partenariat avec la Ville de Châteauguay. \n  \nFrançois Couperin (10 minutes) \n5 pieces en Concertt   \nPrélude\, Sicilienne\, La Tromba\, Plainte\, Air de Diable \nFrédéric Chopin (30 minutes) \nSonate pour violoncelle et piano Opus 65 en Sol mineur: \nAllegro moderato\, Scherzo\, Largo\, Finale. Allegro \n  \nIntermission \n  \nClaude Debussy (10 minutes) \nSonate pour violoncelle et piano en Ré mineur \nPrologue\, Sérénade\, Finale \nFrancis Poulenc (25 minutes) \nSonate pour violoncelle et piano\, FP 143 \nAllegro-Tempo di Marcia\, Cavatine\, Ballabile\, Finale \n 
URL:https://duocavatine.com/en/calendar/couleurs-dautomne/
LOCATION:Maison Le Pailleur\, 54 Boulevard Salaberry S\, Châteauguay\, Quebec\, J6J 4J3
END:VEVENT
BEGIN:VEVENT
DTSTART;TZID=UTC:20210718T150000
DTEND;TZID=UTC:20210718T163000
DTSTAMP:20260423T182237
CREATED:20210516T174801Z
LAST-MODIFIED:20210516T180324Z
UID:224-1626620400-1626625800@duocavatine.com
SUMMARY:Fireworks
DESCRIPTION:It has been a hard year for everyone\, and Duo Cavatine is here to inject a good dose of positivity into the world! We decided to craft a concert packed with our favourite uplifting music\, and came with a ground-breaking idea: a Potpourri Sonata\, formed from movements of four different sonatas\, carefully selected by us to create the highest delight!  \nProgramme: \n\nR. Schumann………………….Fantasiestücke opus 73 \nN. Boulanger………………….3 Pièces pour violoncelle & piano\nL.v. Beethoven………………..7 Variations “Bei Mannern” \nPotpourri Sonata\n\n\nS. Rachmaninov………..Lento-Allegro moderato\nD. Shostakovitch………..Allegro\nJ. Brahms………………..Adagio affettuoso\nL.v. Beethoven…………..Rondo Allegro
URL:https://duocavatine.com/en/calendar/fireworks/
LOCATION:Kin Expeience\, 397A Saint-Catherine St W\, Montreal\, Quebec\, H3B 1A4
END:VEVENT
BEGIN:VEVENT
DTSTART;TZID=UTC:20210509T080000
DTEND;TZID=UTC:20210523T235900
DTSTAMP:20260423T182237
CREATED:20210516T180931Z
LAST-MODIFIED:20210516T182356Z
UID:236-1620547200-1621814340@duocavatine.com
SUMMARY:Parfums de Paris
DESCRIPTION:Le Duo Cavatine – Noémie Raymond-Friset (violoncelle) et Michel-Alexandre Broekaert (piano) – est avant tout une longue histoire d’amitié. Réunissant deux jeunes musiciens aux feuilles de route impressionnantes\, ce duo démontre une grande polyvalence artistique. \n«Ils (Duo Cavatine) surfent avec maestria sur des passages musicaux virtuoses. (…) on découvre qu’ils vivent intensément les émotions véhiculées par la musique et qu’ils ont pour mission de nous communiquer. » – Daniel Raymond\, Atuvu.ca \n“They surf with mastery on virtuoso musical passages. (…) we discover that they live intensely the emotions conveyed by the music and that they have the mission to communicate us.” – Daniel Raymond\, Atuvu.ca \n\nProgramme: \nFrançois Couperin\, Pièces en concert pour violoncelle et piano\nFrédéric Chopin\, Sonate pour violoncelle et piano en sol mineur\, op. 65
URL:https://duocavatine.com/en/calendar/parfums-de-paris/
LOCATION:Online/En ligne
END:VEVENT
BEGIN:VEVENT
DTSTART;TZID=America/Halifax:20201105T193000
DTEND;TZID=America/Halifax:20201105T193000
DTSTAMP:20260423T182237
CREATED:20200613T050917Z
LAST-MODIFIED:20200614T230339Z
UID:133-1604604600-1604604600@duocavatine.com
SUMMARY:The hidden face of the cello
DESCRIPTION:
URL:https://duocavatine.com/en/calendar/the-hidden-face-of-the-cello/
LOCATION:Maison de la culture Anjou\, 7500 avenue Goncourt
END:VEVENT
BEGIN:VEVENT
DTSTART;TZID=America/New_York:20201018T110000
DTEND;TZID=America/New_York:20201018T110000
DTSTAMP:20260423T182237
CREATED:20200613T050653Z
LAST-MODIFIED:20200614T230443Z
UID:130-1603018800-1603018800@duocavatine.com
SUMMARY:Parfum de Paris
DESCRIPTION:
URL:https://duocavatine.com/en/calendar/parfum-de-paris-3/
LOCATION:Maison Lachaine\, 37 rue Blainville O.
END:VEVENT
BEGIN:VEVENT
DTSTART;TZID=America/New_York:20201012T121500
DTEND;TZID=America/New_York:20201012T121500
DTSTAMP:20260423T182237
CREATED:20200613T050429Z
LAST-MODIFIED:20200614T230531Z
UID:127-1602504900-1602504900@duocavatine.com
SUMMARY:Parfum de Paris
DESCRIPTION:Music Mondays Concert Series
URL:https://duocavatine.com/en/calendar/parfum-de-paris-2/
LOCATION:Church of the Holy Trinity\, 19 Trinity Square\, Toronto
END:VEVENT
BEGIN:VEVENT
DTSTART;TZID=America/New_York:20201008T193000
DTEND;TZID=America/New_York:20201008T193000
DTSTAMP:20260423T182237
CREATED:20200613T050100Z
LAST-MODIFIED:20200614T230603Z
UID:124-1602185400-1602185400@duocavatine.com
SUMMARY:Parfum de Paris
DESCRIPTION:
URL:https://duocavatine.com/en/calendar/parfum-de-paris/
LOCATION:Chapelle Historique du Bon-Pasteur\, 100 rue Sherbrooke E.\, Montréal
END:VEVENT
END:VCALENDAR